BEGIN:VCALENDAR
VERSION:2.0
PRODID:-//Clubshot//Event Calendar//DE
CALSCALE:GREGORIAN
METHOD:PUBLISH
X-WR-CALNAME:Vereinskalender
X-WR-TIMEZONE:Europe/Berlin
BEGIN:VEVENT
UID:event-7-20260404@clubshot.local
DTSTAMP:20260420T074640Z
DTSTART:20260404T120000Z
DTEND:20260404T160000Z
SUMMARY:Ostereierschießen
STATUS:CONFIRMED
TRANSP:OPAQUE
SEQUENCE:0
RRULE:FREQ=DAILY
END:VEVENT
BEGIN:VEVENT
UID:event-15-20260425@clubshot.local
DTSTAMP:20260420T074640Z
DTSTART:20260425T120000Z
DTEND:20260425T150000Z
SUMMARY:Kreisliga A / GK Pistole/Revolver – Runde 3: Waldenbuch 2
LOCATION:Waldenbuch 14:00 Uhr
STATUS:CONFIRMED
TRANSP:OPAQUE
SEQUENCE:0
END:VEVENT
BEGIN:VEVENT
UID:event-8-20260801@clubshot.local
DTSTAMP:20260420T074640Z
DTSTART:20260801T100000Z
DTEND:20260801T210000Z
SUMMARY:Seenachtsfest Weil im Schönbuch
STATUS:CONFIRMED
TRANSP:OPAQUE
SEQUENCE:0
RRULE:FREQ=DAILY
END:VEVENT
BEGIN:VEVENT
UID:event-11-20261001@clubshot.local
DTSTAMP:20260420T074640Z
DTSTART:20260930T220100Z
DTEND:20261130T225900Z
SUMMARY:Vereinsmeisterschaft
STATUS:CONFIRMED
TRANSP:OPAQUE
SEQUENCE:0
RRULE:FREQ=DAILY
END:VEVENT
BEGIN:VEVENT
UID:event-10-20261010@clubshot.local
DTSTAMP:20260420T074640Z
DTSTART:20261010T110000Z
DTEND:20261010T160000Z
SUMMARY:Tag der offenen Tür
STATUS:CONFIRMED
TRANSP:OPAQUE
SEQUENCE:0
RRULE:FREQ=DAILY
END:VEVENT
BEGIN:VEVENT
UID:event-13-20261205@clubshot.local
DTSTAMP:20260420T074640Z
DTSTART:20261205T150000Z
DTEND:20261205T190000Z
SUMMARY:Jahresabschlussfeier
STATUS:CONFIRMED
TRANSP:OPAQUE
SEQUENCE:0
RRULE:FREQ=DAILY
END:VEVENT
BEGIN:VEVENT
UID:event-14-20261213@clubshot.local
DTSTAMP:20260420T074640Z
DTSTART:20261213T110000Z
DTEND:20261213T200000Z
SUMMARY:Weihnachtsmärktle Breitenstein
STATUS:CONFIRMED
TRANSP:OPAQUE
SEQUENCE:0
RRULE:FREQ=DAILY
END:VEVENT
END:VCALENDAR
