BEGIN:VCALENDAR
VERSION:2.0
PRODID:-//Clubshot//Event Calendar//DE
CALSCALE:GREGORIAN
METHOD:PUBLISH
X-WR-CALNAME:Vereinskalender
X-WR-TIMEZONE:Europe/Berlin
BEGIN:VEVENT
UID:event-7-20260404@clubshot.local
DTSTAMP:20260419T121225Z
DTSTART:20260404T120000Z
DTEND:20260404T160000Z
SUMMARY:Ostereierschießen
STATUS:CONFIRMED
TRANSP:OPAQUE
SEQUENCE:0
RRULE:FREQ=DAILY
END:VEVENT
END:VCALENDAR
